BEGIN:VCALENDAR
VERSION:2.0
PRODID:-//Tukios.com/
BEGIN:VEVENT
UID:d263d714-fe9a-46bc-8924-120195d0049a@www.evertlukofuneralhome.com
DTSTAMP:20260420T224927Z
DTSTART:20260427
SUMMARY:Burial
DESCRIPTION:
URL:https://www.evertlukofuneralhome.com/obituaries/lorraine-jashinsky
LOCATION:St. John’s Catholic Cemetery 491 Emerald Drive  Hartford WI 
	53027
GEO:43.2078073;-88.3406303
END:VEVENT
END:VCALENDAR