BEGIN:VCALENDAR
VERSION:2.0
PRODID:-//Tukios.com/
BEGIN:VEVENT
UID:96366001-83b9-4500-8b76-ec4128f53ac0@www.evertlukofuneralhome.com
DTSTAMP:20260420T225508Z
DTSTART:20260427T160000Z
DTEND:20260427T170000Z
SUMMARY:Funeral Service
DESCRIPTION:
URL:https://www.evertlukofuneralhome.com/obituaries/lorraine-jashinsky
LOCATION:Saint Teresa of Calcutta Parish - Monches W302N9583 O Neil Rd  
	Hartland WI 53029
GEO:43.1927776;-88.3438374
END:VEVENT
END:VCALENDAR