BEGIN:VCALENDAR
VERSION:2.0
PRODID:-//Tukios.com/
BEGIN:VEVENT
UID:bcbed4e1-f526-49f5-b8da-2b673d30dab6@www.evertlukofuneralhome.com
DTSTAMP:20260420T225259Z
DTSTART:20260427T150000Z
DTEND:20260427T160000Z
SUMMARY:Visitation
DESCRIPTION:
URL:https://www.evertlukofuneralhome.com/obituaries/lorraine-jashinsky
LOCATION:Saint Teresa of Calcutta Parish - Monches W302N9583 O Neil Rd  
	Hartland WI 53029
GEO:43.1927776;-88.3438374
END:VEVENT
END:VCALENDAR